BEGIN:VCALENDAR
VERSION:2.0
METHOD:PUBLISH
PRODID:-//Tendenci - The Open Source AMS for Associations//Tendenci Codeba
 se MIMEDIR//EN
BEGIN:VEVENT
DESCRIPTION:--- This iCal file does *NOT* confirm registration.\nEvent det
 ails subject to change. ---\nhttps://www.laccnyc.org/events/74/\n\nEvent T
 itle: Webinar: Cryptocurrency - What it Means for Companies and Associatio
 ns involved in International Commerce\nStart Date / Time: Oct 22, 2019 13:
 00 PM US/Central\nLocation: \nSpeaker: Ed Schipul\nCryptocurrency is a gro
 und-breaking way to conduct business, financial and contractual, between p
 arties regardless of physical location and outside of regulated government
 al systems. This comes with both a wealth of opportunity to facilitate tra
 nsactions and a risk of corruption along the way. This webinar will walk y
 ou through a SWOT analysis of implementing cryptocurrency within your orga
 nization, and why your government may take issue with the practice.\n \nWe
 binar log-in information will follow shortly!\n\n--- This iCal file does *
 NOT* confirm registration.Event details subject to change. ---\n\n--- By T
 endenci - The Open Source AMS for Associations ---\n
UID:uid74@laccnyc.org
SUMMARY:Webinar: Cryptocurrency - What it Means for Companies and Associations involved in International Commerce
DTSTART:20191022T180000Z
DTEND:20191022T190000Z
CLASS:PUBLIC
PRIORITY:5
DTSTAMP:20260420T145105Z
TRANSP:OPAQUE
SEQUENCE:0
X-ALT-DESC;FMTTYPE=text/html:<div>--- This iCal file does *NOT* confirm re
 gistration.Event details subject to change. ---</div><h1>Event Title: Webi
 nar: Cryptocurrency - What it Means for Companies and Associations involve
 d in International Commerce</h1><div>https://www.laccnyc.org/events/74/</d
 iv><br /><div>When: Oct 22, 2019 13:00 PM US/Central</div><div>Speaker: Ed
  Schipul</div><br /><div><p>Cryptocurrency is a ground-breaking way to con
 duct business, financial and contractual, between parties regardless of ph
 ysical location and outside of regulated governmental systems. This comes 
 with both a wealth of opportunity to facilitate transactions and a risk of
  corruption along the way. This <strong>webinar</strong> will walk you thr
 ough a SWOT analysis of implementing cryptocurrency within your organizati
 on, and why your government may take issue with the practice.</p> <p>&nbsp
 \;</p> <p><strong>Webinar log-in information will follow shortly!</strong>
 </p></div><div>--- This iCal file does *NOT* confirm registration.Event de
 tails subject to change. ---</div><div>--- Tendenci&reg\; Software by <a h
 ref="https://www.tendenci.com">tendenci.com</a> - The Open Source AMS for 
 Associations ---</div>
BEGIN:VALARM
TRIGGER:-PT30M
ACTION:DISPLAY
DESCRIPTION:Reminder
END:VALARM
END:VEVENT
END:VCALENDAR
